BEGIN:VCALENDAR
VERSION:2.0
PRODID:-//wp-events-plugin.com//7.2.3.1//EN
TZID:America/New_York
X-WR-TIMEZONE:America/New_York
BEGIN:VEVENT
UID:140@kvib.com
DTSTART;TZID=America/New_York:20250312T200000
DTEND;TZID=America/New_York:20250312T220000
DTSTAMP:20250421T200617Z
URL:https://kvib.com/events/thursday-nights-classic-rock-jam-session-2025-
 03-12/
SUMMARY:Wednesday Night's All Mix Block!
DESCRIPTION:Every Wedneday we play all your favorites from the 70's through
  today. Come listen to the variety and enjoy all your favorites! Fun start
 s at 8pm EST and goes until 10pm EST.
CATEGORIES:Mix Music
END:VEVENT
BEGIN:VTIMEZONE
TZID:America/New_York
X-LIC-LOCATION:America/New_York
BEGIN:DAYLIGHT
DTSTART:20250309T030000
TZOFFSETFROM:-0500
TZOFFSETTO:-0400
TZNAME:EDT
END:DAYLIGHT
END:VTIMEZONE
END:VCALENDAR