BEGIN:VCALENDAR
VERSION:2.0
PRODID:-//wp-events-plugin.com//7.2.3.1//EN
TZID:America/New_York
X-WR-TIMEZONE:America/New_York
BEGIN:VEVENT
UID:134@kvib.com
DTSTART;TZID=America/New_York:20250701T200000
DTEND;TZID=America/New_York:20250701T220000
DTSTAMP:20250421T200420Z
URL:https://kvib.com/events/thursday-nights-classic-rock-jam-session-2-202
 5-07-01/
SUMMARY:Tuesday Night's All 80's Jam Session!
DESCRIPTION:Every Tuesday we play the greatest hits from the 80's. Crank it
  up!! Fun starts at 8pm EST and goes until 10pm EST.
CATEGORIES:80's Music
END:VEVENT
BEGIN:VTIMEZONE
TZID:America/New_York
X-LIC-LOCATION:America/New_York
BEGIN:DAYLIGHT
DTSTART:20250309T030000
TZOFFSETFROM:-0500
TZOFFSETTO:-0400
TZNAME:EDT
END:DAYLIGHT
END:VTIMEZONE
END:VCALENDAR